BEGIN:VCALENDAR
VERSION:2.0
PRODID:-//Biblioteca di Storia Moderna e Contemporanea - ECPv6.15.20//NONSGML v1.0//EN
CALSCALE:GREGORIAN
METHOD:PUBLISH
X-ORIGINAL-URL:https://bsmc.cultura.gov.it
X-WR-CALDESC:Eventi per Biblioteca di Storia Moderna e Contemporanea
REFRESH-INTERVAL;VALUE=DURATION:PT1H
X-Robots-Tag:noindex
X-PUBLISHED-TTL:PT1H
BEGIN:VTIMEZONE
TZID:Europe/Rome
BEGIN:DAYLIGHT
TZOFFSETFROM:+0100
TZOFFSETTO:+0200
TZNAME:CEST
DTSTART:20230326T010000
END:DAYLIGHT
BEGIN:STANDARD
TZOFFSETFROM:+0200
TZOFFSETTO:+0100
TZNAME:CET
DTSTART:20231029T010000
END:STANDARD
BEGIN:DAYLIGHT
TZOFFSETFROM:+0100
TZOFFSETTO:+0200
TZNAME:CEST
DTSTART:20240331T010000
END:DAYLIGHT
BEGIN:STANDARD
TZOFFSETFROM:+0200
TZOFFSETTO:+0100
TZNAME:CET
DTSTART:20241027T010000
END:STANDARD
BEGIN:DAYLIGHT
TZOFFSETFROM:+0100
TZOFFSETTO:+0200
TZNAME:CEST
DTSTART:20250330T010000
END:DAYLIGHT
BEGIN:STANDARD
TZOFFSETFROM:+0200
TZOFFSETTO:+0100
TZNAME:CET
DTSTART:20251026T010000
END:STANDARD
END:VTIMEZONE
BEGIN:VEVENT
DTSTART;TZID=Europe/Rome:20240509T170000
DTEND;TZID=Europe/Rome:20240509T193000
DTSTAMP:20260425T144745
CREATED:20240508T142340Z
LAST-MODIFIED:20240515T134013Z
UID:256661-1715274000-1715283000@bsmc.cultura.gov.it
SUMMARY:Männlichkeit/en. Pluralità maschili e cultura tedesca
DESCRIPTION:Martedì 09 maggio 2024\, ore 17.00 \nPresentazione del volume: \nMännlichkeit/en. Pluralità maschili e cultura tedesca \na cura di: Giulia Iannucci\, Giuliano Lozzi (Mimesis\, 2023) \nIntervengono: Domenico Rizzo\, Eriberto Russo\, Luca Zenobi \nCoordina: Eleonora De Longis \nDiretta sulle pagine FB della Biblioteca https://www.facebook.com/BSMCstoriamoderna \ne della SIS https://www.facebook.com/SISstoriche.1989 \nCOMUNICATO \n \n 
URL:https://bsmc.cultura.gov.it/evento/presentazione-del-volume/
LOCATION:BSMC Sala Conferenze\, Via Michelangelo Caetani\, 32\, Roma\, 00186\, Italy
CATEGORIES:Presentazioni
ATTACH;FMTTYPE=image/jpeg:https://bsmc.cultura.gov.it/wp-content/uploads/2024/05/2024_05_09_Mannlichkeit_Locandina.jpg
END:VEVENT
END:VCALENDAR