BEGIN:VCALENDAR
VERSION:2.0
PRODID:-//Biblioteca di Storia Moderna e Contemporanea - ECPv6.15.20//NONSGML v1.0//EN
CALSCALE:GREGORIAN
METHOD:PUBLISH
X-WR-CALNAME:Biblioteca di Storia Moderna e Contemporanea
X-ORIGINAL-URL:https://bsmc.cultura.gov.it
X-WR-CALDESC:Eventi per Biblioteca di Storia Moderna e Contemporanea
REFRESH-INTERVAL;VALUE=DURATION:PT1H
X-Robots-Tag:noindex
X-PUBLISHED-TTL:PT1H
BEGIN:VTIMEZONE
TZID:Europe/Rome
BEGIN:DAYLIGHT
TZOFFSETFROM:+0100
TZOFFSETTO:+0200
TZNAME:CEST
DTSTART:20230326T010000
END:DAYLIGHT
BEGIN:STANDARD
TZOFFSETFROM:+0200
TZOFFSETTO:+0100
TZNAME:CET
DTSTART:20231029T010000
END:STANDARD
BEGIN:DAYLIGHT
TZOFFSETFROM:+0100
TZOFFSETTO:+0200
TZNAME:CEST
DTSTART:20240331T010000
END:DAYLIGHT
BEGIN:STANDARD
TZOFFSETFROM:+0200
TZOFFSETTO:+0100
TZNAME:CET
DTSTART:20241027T010000
END:STANDARD
BEGIN:DAYLIGHT
TZOFFSETFROM:+0100
TZOFFSETTO:+0200
TZNAME:CEST
DTSTART:20250330T010000
END:DAYLIGHT
BEGIN:STANDARD
TZOFFSETFROM:+0200
TZOFFSETTO:+0100
TZNAME:CET
DTSTART:20251026T010000
END:STANDARD
END:VTIMEZONE
BEGIN:VEVENT
DTSTART;TZID=Europe/Rome:20240523T170000
DTEND;TZID=Europe/Rome:20240523T193000
DTSTAMP:20260423T133332
CREATED:20240523T132408Z
LAST-MODIFIED:20240524T101731Z
UID:256703-1716483600-1716492600@bsmc.cultura.gov.it
SUMMARY:L'Ottocento nella storia dell'Italia Contemporanea
DESCRIPTION:L’Ottocento nella storia dell’Italia contemporanea\nin occasione della pubblicazione del volume\nPatria\, rappresentanza politica e mutamento sociale. 1866 -1887/1887-1903\ndi Andrea Ciampani\, Sandro Rogari\nVolume secondo della Storia dell’Italia contemporanea. Il profilo politico\n(Rubbettino\, 2024) \nSaluti: Patrizia Rusciani\nIntervengono:\nPierangelo Gentile (Università di Torino) Giacomo Girardi (Università di Verona) Małgorzata Kiwior-Filo (Universytet Jagielloński\, Kraków) \nDiretta sul canale FB della Biblioteca https://www.facebook.com/BSMCstoriamoderna \nLOCANDINA
URL:https://bsmc.cultura.gov.it/evento/lottocento-nella-storia-dellitalia-contemporanea/
LOCATION:BSMC Sala Conferenze\, Via Michelangelo Caetani\, 32\, Roma\, 00186\, Italy
CATEGORIES:In evidenza,Presentazioni
ATTACH;FMTTYPE=image/jpeg:https://bsmc.cultura.gov.it/wp-content/uploads/2024/05/2024_05_23_Locandina.jpg
ORGANIZER;CN="Biblioteca di Storia moderna e contemporanea":MAILTO:b-stmo.info@cultura.gov.it
END:VEVENT
BEGIN:VEVENT
DTSTART;TZID=Europe/Rome:20240529T170000
DTEND;TZID=Europe/Rome:20240529T193000
DTSTAMP:20260423T133332
CREATED:20240524T092834Z
LAST-MODIFIED:20241029T082955Z
UID:256724-1717002000-1717011000@bsmc.cultura.gov.it
SUMMARY:Costruire la nuova Italia
DESCRIPTION:Mercoledì 29 maggio 2024\, ore 17.00\nPresentazione del volume: \nCostruire la nuova Italia Miti di Roma e fascismo (Viella\, 2023)\na cura di Fabrizio Oppedisano\, Paola S. Salvatori\, Federico Santangelo\nSaluti\nPatrizia Rusciani\nIntervengono\nFrancesco Bartolini\, Andrea Giardina\, Daniele Manacorda\nCoordina\nBruno Tobia\nSaranno presenti i curatori\nDiretta sulle pagine FB della Biblioteca\nhttps://www.facebook.com/BSMCstoriamoderna \nLOCANDINA \nCOMUNICATO
URL:https://bsmc.cultura.gov.it/evento/costruire-la-nuova-italia/
LOCATION:BSMC Sala Conferenze\, Via Michelangelo Caetani\, 32\, Roma\, 00186\, Italy
CATEGORIES:In evidenza,Presentazioni
ATTACH;FMTTYPE=image/jpeg:https://bsmc.cultura.gov.it/wp-content/uploads/2024/05/2024-05-29_Locandina.jpg
ORGANIZER;CN="Biblioteca di Storia moderna e contemporanea":MAILTO:b-stmo.info@cultura.gov.it
END:VEVENT
BEGIN:VEVENT
DTSTART;VALUE=DATE:20241013
DTEND;VALUE=DATE:20241014
DTSTAMP:20260423T133332
CREATED:20241003T171922Z
LAST-MODIFIED:20241009T142614Z
UID:258094-1728777600-1728863999@bsmc.cultura.gov.it
SUMMARY:Domenica di Carta 2024
DESCRIPTION:Invito a Palazzo Mattei di Giove e alla Biblioteca \nSi rinnova l’appuntamento annuale con la DOMENICA DI CARTA\, promosso dal MIC\, che prevede l’apertura straordinaria di archivi e biblioteche statali in tutta Italia\, per avvicinare i cittadini al ricco patrimonio librario e archivistico nazionale. \nOre 10.00 e ore 11.30\nVisite guidate al Palazzo e alla Biblioteca\ncon illustrazione delle collezioni e della\nmostra bibliografica dedicata al centenario\ndella morte di Giacomo Matteotti. \nLe visite gratuite sono a cura del personale della Biblioteca;\nla prenotazione è obbligatoria scrivendo all’indirizzo bsmc.prenotazioni@gmail.com\ne sarà valida previa ricezione della conferma. \nSi comunica che le prenotazioni alle visite guidate sono chiuse causa esaurimento dei posti disponibili \nLOCANDINA
URL:https://bsmc.cultura.gov.it/evento/domenica-di-carta-2024/
LOCATION:Biblioteca di storia moderna e contemporanea\, Roma\, Italia
CATEGORIES:Biblioteche d'Italia,In evidenza
ATTACH;FMTTYPE=image/jpeg:https://bsmc.cultura.gov.it/wp-content/uploads/2024/10/Domenica_carta_2024-1.jpg
ORGANIZER;CN="Biblioteca di Storia moderna e contemporanea":MAILTO:b-stmo.info@cultura.gov.it
END:VEVENT
BEGIN:VEVENT
DTSTART;TZID=Europe/Rome:20241017T180000
DTEND;TZID=Europe/Rome:20241017T180000
DTSTAMP:20260423T133332
CREATED:20241016T134314Z
LAST-MODIFIED:20241017T105056Z
UID:258169-1729188000-1729188000@bsmc.cultura.gov.it
SUMMARY:Luigi Einaudi: la tutela del paesaggio e del patrimonio storico artistico
DESCRIPTION:a cura di Anna Paolelli e Alessandro Mascherucci \n(Gangemi Editore\, 2024) \nSaluti \nPatrizia Rusciani \nIntervengono \nPaolo Berdini\, Marina Cogotti\, Margherita Eichberg\, Paolo Soddu \nCoordina \nRoberto Einaudi \nSaranno presenti i curatori \nDiretta sulla pagina FB della Biblioteca https:/ /www.facebook.com/BSMCstoriamoderna \nLOCANDINA \nCOMUNICATO STAMPA
URL:https://bsmc.cultura.gov.it/evento/luigi-einaudi-la-tutela-del-paesaggio-e-del-patrimonio-storico-artistico/
LOCATION:BSMC Sala Conferenze\, Via Michelangelo Caetani\, 32\, Roma\, 00186\, Italy
CATEGORIES:In evidenza,Presentazioni
ATTACH;FMTTYPE=image/jpeg:https://bsmc.cultura.gov.it/wp-content/uploads/2024/10/2024_10_17_locandina_einaudi-scaled.jpg
ORGANIZER;CN="Biblioteca di Storia moderna e contemporanea":MAILTO:b-stmo.info@cultura.gov.it
END:VEVENT
BEGIN:VEVENT
DTSTART;TZID=Europe/Rome:20241031T170000
DTEND;TZID=Europe/Rome:20241031T170000
DTSTAMP:20260423T133332
CREATED:20241025T165153Z
LAST-MODIFIED:20241106T100655Z
UID:258202-1730394000-1730394000@bsmc.cultura.gov.it
SUMMARY:La storia al tempo dell'oggi
DESCRIPTION:Giovedì 31 ottobre\, alle ore 17.00\, presso la sede e sul canale Facebook della Biblioteca di storia moderna e contemporanea\, presentazione del volume \nLa storia al tempo dell’oggi \ndi Francesco Benigno \n(Il Mulino\, 2024) \nSaluti \nPatrizia Rusciani \nNe discutono con l’autore\nGiorgio Caravale\, Renato Moro\, Francesca Sofia \nDiretta sul canale FB della Biblioteca\nhttps://www.facebook.com/BSMCstoriamoderna \nLOCANDINA \nCOMUNICATO
URL:https://bsmc.cultura.gov.it/evento/la-storia-al-tempo-delloggi/
LOCATION:BSMC Sala Conferenze\, Via Michelangelo Caetani\, 32\, Roma\, 00186\, Italy
CATEGORIES:In evidenza,Presentazioni
ATTACH;FMTTYPE=image/jpeg:https://bsmc.cultura.gov.it/wp-content/uploads/2024/10/2024_10_31_La_storia_al_tempo_dell_oggi_Locandina.jpg
ORGANIZER;CN="Biblioteca di Storia moderna e contemporanea":MAILTO:b-stmo.info@cultura.gov.it
END:VEVENT
END:VCALENDAR