BEGIN:VCALENDAR
VERSION:2.0
PRODID:-//Biblioteca di Storia Moderna e Contemporanea - ECPv6.15.20//NONSGML v1.0//EN
CALSCALE:GREGORIAN
METHOD:PUBLISH
X-WR-CALNAME:Biblioteca di Storia Moderna e Contemporanea
X-ORIGINAL-URL:https://bsmc.cultura.gov.it
X-WR-CALDESC:Eventi per Biblioteca di Storia Moderna e Contemporanea
REFRESH-INTERVAL;VALUE=DURATION:PT1H
X-Robots-Tag:noindex
X-PUBLISHED-TTL:PT1H
BEGIN:VTIMEZONE
TZID:Europe/Rome
BEGIN:DAYLIGHT
TZOFFSETFROM:+0100
TZOFFSETTO:+0200
TZNAME:CEST
DTSTART:20250330T010000
END:DAYLIGHT
BEGIN:STANDARD
TZOFFSETFROM:+0200
TZOFFSETTO:+0100
TZNAME:CET
DTSTART:20251026T010000
END:STANDARD
BEGIN:DAYLIGHT
TZOFFSETFROM:+0100
TZOFFSETTO:+0200
TZNAME:CEST
DTSTART:20260329T010000
END:DAYLIGHT
BEGIN:STANDARD
TZOFFSETFROM:+0200
TZOFFSETTO:+0100
TZNAME:CET
DTSTART:20261025T010000
END:STANDARD
BEGIN:DAYLIGHT
TZOFFSETFROM:+0100
TZOFFSETTO:+0200
TZNAME:CEST
DTSTART:20270328T010000
END:DAYLIGHT
BEGIN:STANDARD
TZOFFSETFROM:+0200
TZOFFSETTO:+0100
TZNAME:CET
DTSTART:20271031T010000
END:STANDARD
END:VTIMEZONE
BEGIN:VEVENT
DTSTART;TZID=Europe/Rome:20260422T173000
DTEND;TZID=Europe/Rome:20260422T190000
DTSTAMP:20260424T133220
CREATED:20260417T101841Z
LAST-MODIFIED:20260417T101841Z
UID:262601-1776879000-1776884400@bsmc.cultura.gov.it
SUMMARY:Inventare la memoria: giovinezza e antifascismo
DESCRIPTION:Mercoledì 22 aprile 2026 ore 17.30 \nPresentazione del volume \nInventare la memoria: giovinezza e antifascismo  \ndi Elisa Donzelli (Marsilio Editore\, 2026). \nSaluti: \nGiuseppina Mussari. \nIntervengono: \nSonia Gentili\, Filippo La Porta\, Massimiliano Tortora. \nSarà presente l’autrice. \nDiretta sul canale FB della Biblioteca https://www.facebook.com/BSMCstoriamoderna \nLOCANDINA \nCOMUNICATO
URL:https://bsmc.cultura.gov.it/evento/inventare-la-memoria-giovinezza-e-antifascismo/
LOCATION:BSMC Sala Conferenze\, Via Michelangelo Caetani\, 32\, Roma\, 00186\, Italy
CATEGORIES:Presentazioni
ATTACH;FMTTYPE=image/png:https://bsmc.cultura.gov.it/wp-content/uploads/2026/04/2026.04.22-Donzelli-Locandina.png
ORGANIZER;CN="Biblioteca di Storia moderna e contemporanea":MAILTO:b-stmo.info@cultura.gov.it
END:VEVENT
END:VCALENDAR